{"text_format":"1","workbook":"xlsx","n_sheets":19,"sheets":["bilan général","1ertour","feuil1","Feuil8","Feuil4","Feuil5","Feuil6","Feuil7","Feuil2","2°tour","3°tour","4°tour","5°tour","6°tour","7°tour","8°tour","9°tour","bilan","Feuil3"],"not_rendered":{"charts":0,"images":0,"macros":1,"external_links":0,"defined_names":0,"comments":0,"pivot_tables":0},"unopened":[],"bounds":{"document_bytes":16777216,"sheet_cells":100000,"rows_first":2000,"rows_last":500,"rows_between":2000,"halvings":0,"cell_chars":16384,"cell_head_chars":4096},"cells_cut":0,"cells_raw":0,"read":"whole","date_system":"1900"}

{"sheet":"bilan général","index":0,"n_rows":0,"n_cols":0,"rows_kept":0,"cut":false,"hidden":false,"merged":[]}

{"sheet":"1ertour","index":1,"n_rows":36,"n_cols":12,"rows_kept":36,"cut":false,"hidden":false,"merged":[[0,0,0,11],[1,0,1,11],[2,6,2,8],[2,9,2,11],[3,0,4,0],[3,1,4,1],[6,2,6,5],[6,6,6,9],[8,2,8,3],[8,4,8,5],[8,6,8,7],[8,8,8,9],[9,0,9,11],[10,6,10,8],[10,9,10,11],[11,0,12,0],[11,1,12,1],[13,0,13,11],[14,2,14,5],[14,6,14,9],[16,2,16,3],[16,4,16,5],[16,6,16,7],[16,8,16,9],[17,6,17,8],[17,9,17,11],[18,0,19,0],[18,1,19,1],[19,2,19,9],[20,2,20,9],[21,2,21,5],[21,6,21,9],[23,2,23,3],[23,4,23,5],[23,6,23,7],[23,8,23,9],[33,1,33,2],[25,5,25,7],[26,5,26,7],[31,1,31,2],[26,1,26,2],[29,1,29,2]]}
["PREMIER  TOUR"]
[]
["jeu","vuln","table","contrat","joué par","résultat","Nord-Sud",null,null,"Est-Ouest"]
["1_1","PERS",1,"3P","E","(=)",{"$f":"feuil1!$Z$3","v":"MC"},{"$f":"feuil1!$S$3","v":"JPS"},{"$f":"feuil1!B4","v":0},{"$f":"feuil1!C4","v":140},{"$f":"feuil1!$Y$3","v":"NTH"},{"$f":"feuil1!$T$3","v":"BC"}]
[null,null,2,"4T","N","(=)",{"$f":"feuil1!$X$3","v":"FD"},{"$f":"feuil1!$U$3","v":"BTH"},{"$f":"feuil1!D4","v":130},{"$f":"feuil1!E4","v":0},{"$f":"feuil1!$W$3","v":"OC"},{"$f":"feuil1!$V$3","v":"RS"}]
[]
[null,null,"NS",null,null,null,"EO"]
[null,null,{"$f":"feuil1!$Z$3","v":"MC"},{"$f":"feuil1!$S$3","v":"JPS"},{"$f":"feuil1!$X$3","v":"FD"},{"$f":"feuil1!$U$3","v":"BTH"},{"$f":"feuil1!$Y$3","v":"NTH"},{"$f":"feuil1!$T$3","v":"BC"},{"$f":"feuil1!$W$3","v":"OC"},{"$f":"feuil1!$V$3","v":"RS"}]
[null,null,{"$f":"feuil1!$J$4","v":-7},null,{"$f":"feuil1!$K$4","v":7},null,{"$f":"feuil1!$M$4","v":7},null,{"$f":"feuil1!$N$4","v":-7}]
[]
["jeu","vuln","table","contrat","joué par","résultat","Nord-Sud",null,null,"Est-Ouest"]
["1_2","NS",1,"2C","O","(+1)",{"$f":"feuil1!$Z$3","v":"MC"},{"$f":"feuil1!$S$3","v":"JPS"},{"$f":"feuil1!B5","v":0},{"$f":"feuil1!C5","v":140},{"$f":"feuil1!$Y$3","v":"NTH"},{"$f":"feuil1!$T$3","v":"BC"}]
[null,null,2,"4C","O","(=)",{"$f":"G5","v":"FD"},{"$f":"feuil1!$U$3","v":"BTH"},{"$f":"feuil1!D5","v":0},{"$f":"feuil1!E5","v":420},{"$f":"feuil1!$W$3","v":"OC"},{"$f":"feuil1!$V$3","v":"RS"}]
[]
[null,null,"NS",null,null,null,"EO"]
[null,null,{"$f":"feuil1!$Z$3","v":"MC"},{"$f":"feuil1!$S$3","v":"JPS"},{"$f":"feuil1!$X$3","v":"FD"},{"$f":"feuil1!$U$3","v":"BTH"},{"$f":"feuil1!$Y$3","v":"NTH"},{"$f":"feuil1!$T$3","v":"BC"},{"$f":"feuil1!$W$3","v":"OC"},{"$f":"feuil1!$V$3","v":"RS"}]
[null,null,{"$f":"feuil1!$J$5","v":7},null,{"$f":"feuil1!$K$5","v":-7},null,{"$f":"feuil1!$M$5","v":-7},null,{"$f":"feuil1!$N$5","v":7}]
[]
[]
[null,null,"Au 1er tour"]
[]
[null,null,"NS",null,null,null,"EO"]
[null,null,{"$f":"feuil1!$Z$3","v":"MC"},{"$f":"feuil1!$S$3","v":"JPS"},{"$f":"E16","v":"FD"},"BTH","NTH","BC","OC","RS"]
[null,null,{"$f":"(C9)+(C17)","v":0},null,{"$f":"(E9)+(E17)","v":0},null,{"$f":"(G9)+(G17)","v":0},null,{"$f":"(I9)+(I17)","v":0}]
[]
[null,null,null,null,null,"Après le premier tour :"]
[null,"N'a pas joué :   ",null,{"$f":"feuil1!$R$3","v":"GD"}]
[null,null,null,null,null,null,"GD",0]
[null,null,null,null,null,null,"JPS",0]
[null,"Page d'accueil",null,null,null,null,"BC",0]
[null,null,null,null,null,null,"BTH",0]
[null,"Deuxième tour",null,null,null,null,"RS",0]
[null,null,null,null,null,null,"OC",0]
[null,"Cagnotte",null,null,null,null,"FD",0]
[null,null,null,null,null,null,"NTH",0]
[null,null,null,null,null,null,"MC",0]

{"sheet":"feuil1","index":2,"n_rows":23,"n_cols":248,"rows_kept":23,"cut":false,"hidden":false,"merged":[[14,36,14,37],[16,38,16,39],[15,30,15,32],[16,30,16,32],[0,13,0,17],[0,1,0,4],[0,9,0,11],[21,1,21,2],[21,3,21,4],[21,5,21,6],[1,1,1,2],[1,3,1,4],[1,5,1,6]]}
[null,"Individuel 9",null,null,null,null,null,null,null,"Nombre de parties :",null,null,18]
[null,"table 1",null,"table 2",null,null,null,null,null,null,null,null,null,null,null,null,"numéros",1,2,3,4,5,6,7,8,9,"      >   ","noms","total",null,"num.","noms","total",null,"CLT","num.","noms","total",null,null,null,null,null,null,null,null,null,null,null,null,null,null,null,null,null,null,null,null,null,null,null,null,null,null,null,null,null,null,null,null,null,null,null,null,null,null,null,null,null,null,null,null,null,null,null,null,null,null,null,null,null,null,null,null,null,null,null,null,null,null,null,null,null,null,null,null,null,null,null,null,null,null,null,null,null,null,null,null,null,null,null,null,null,null,null,null,null,null,null,null,null,null,null,null,null,null,null,null,null,null,null,null,null,null,null,null,null,null,null,null,null,null,null,null,null,null,null,null,null,null,null,null,null,null,null,null,null,null,null,null,null,null,null,null,null,null,null,null,null,null,null,null,null,null,null,null,null,null,null,null,null,null,null,null,null,null,null,null,null,null,null,null,null,null,null,null,null,null,null,null,null,null,null,null,null,null,null,null,null,null,null,null,null,null,null,null,null,null,null,null,null,null,null,null,null,null,null,null,null,null,null,null,null,null,null,null,null,"E/P"]
["       équipes\nparties","N/S","E/O","N/S","E/O",null,null,null,null,"N/S.1","N/S.2",null,"E/O.1","E/O.2",null,null,"noms","GD","JPS","BC","BTH","RS","OC","FD","NTH","MC",1,{"$f":"$R$3","v":"GD"},{"$f":"$R$22","v":-38},null,3,{"$f":"$T$3","v":"BC"},{"$f":"$T$22","v":38},null,"1er",3,{"$f":"$T$3","v":"BC"},{"$f":"$T$22","v":38}]
["1  .  1",null,140,130,null,null,null,null,null,{"$f":"Feuil2!I3","v":-7},{"$f":"-(J4)","v":7},null,{"$f":"-(J4)","v":7},{"$f":"(J4)","v":-7},null,null,null,0,{"$f":"$J4","v":-7},{"$f":"$M4","v":7},{"$f":"$K4","v":7},{"$f":"$N4","v":-7},{"$f":"$N4","v":-7},{"$f":"$K4","v":7},{"$f":"$M4","v":7},{"$f":"$J4","v":-7},2,{"$f":"$S$3","v":"JPS"},{"$f":"$S$22","v":22},null,2,{"$f":"$S$3","v":"JPS"},{"$f":"$S$22","v":22},null,"2°",2,{"$f":"$S$3","v":"JPS"},{"$f":"$S$22","v":22}]
["1  .  2",null,140,null,420,null,null,null,null,{"$f":"Feuil2!I4","v":7},{"$f":"-(J5)","v":-7},null,{"$f":"-(J5)","v":-7},{"$f":"(J5)","v":7},null,null,null,0,{"$f":"$J5","v":7},{"$f":"$M5","v":-7},{"$f":"$K5","v":-7},{"$f":"$N5","v":7},{"$f":"$N5","v":7},{"$f":"$K5","v":-7},{"$f":"$M5","v":-7},{"$f":"$J5","v":7},3,{"$f":"$T$3","v":"BC"},{"$f":"$T$22","v":38},null,8,{"$f":"$Y$3","v":"NTH"},{"$f":"$Y$22","v":21},null,"3°",8,{"$f":"$Y$3","v":"NTH"},{"$f":"$Y$22","v":21}]
["2  .  3",null,110,null,120,null,null,null,null,{"$f":"Feuil2!I5","v":0},0,null,0,0,null,null,null,{"$f":"$J6","v":0},0,{"$f":"$J6","v":0},{"$f":"$M6","v":0},{"$f":"$K6","v":0},{"$f":"$N6","v":0},{"$f":"$N6","v":0},{"$f":"$K6","v":0},{"$f":"$M6","v":0},4,{"$f":"$U$3","v":"BTH"},{"$f":"$U$22","v":-35},null,7,{"$f":"$X$3","v":"FD"},{"$f":"$X$22","v":19},null,"4°",7,{"$f":"$X$3","v":"FD"},{"$f":"$X$22","v":19}]
["2  .  4",170,null,170,null,null,null,null,null,{"$f":"Feuil2!I6","v":0},0,null,0,0,null,null,null,{"$f":"$J7","v":0},0,{"$f":"$J7","v":0},{"$f":"$M7","v":0},{"$f":"$K7","v":0},{"$f":"$N7","v":0},{"$f":"$N7","v":0},{"$f":"$K7","v":0},{"$f":"$M7","v":0},5,{"$f":"$V$3","v":"RS"},{"$f":"$V$22","v":5},null,5,{"$f":"$V$3","v":"RS"},{"$f":"$V$22","v":5},null,"5°",5,{"$f":"$V$3","v":"RS"},{"$f":"$V$22","v":5}]
["3  .  5",650,null,650,null,null,null,null,null,{"$f":"Feuil2!I7","v":0},0,null,0,0,null,null,null,{"$f":"$M8","v":0},{"$f":"$J8","v":0},0,{"$f":"$J8","v":0},{"$f":"$M8","v":0},{"$f":"$K8","v":0},{"$f":"$N8","v":0},{"$f":"$N8","v":0},{"$f":"$K8","v":0},6,{"$f":"$W$3","v":"OC"},{"$f":"$W$22","v":-18},null,9,{"$f":"$Z$3","v":"MC"},{"$f":"$Z$22","v":-14},null,"6°",9,{"$f":"$Z$3","v":"MC"},{"$f":"$Z$22","v":-14}]
["4  .  6",null,100,null,100,null,null,null,null,{"$f":"Feuil2!I8","v":0},0,null,0,0,null,null,null,{"$f":"$M9","v":0},{"$f":"$J9","v":0},0,{"$f":"$J9","v":0},{"$f":"$M9","v":0},{"$f":"$K9","v":0},{"$f":"$N9","v":0},{"$f":"$N9","v":0},{"$f":"$K9","v":0},7,{"$f":"$X$3","v":"FD"},{"$f":"$X$22","v":19},null,6,{"$f":"$W$3","v":"OC"},{"$f":"$W$22","v":-18},null,"7°",6,{"$f":"$W$3","v":"OC"},{"$f":"$W$22","v":-18}]
["4  .  7",680,null,null,200,null,null,null,null,{"$f":"Feuil2!I9","v":13},-13,null,-13,13,null,null,null,{"$f":"$K10","v":-13},{"$f":"$M10","v":-13},{"$f":"$J10","v":13},0,{"$f":"$J10","v":13},{"$f":"$M10","v":-13},{"$f":"$K10","v":-13},{"$f":"$N10","v":13},{"$f":"$N10","v":13},8,{"$f":"$Y$3","v":"NTH"},{"$f":"$Y$22","v":21},null,4,{"$f":"$U$3","v":"BTH"},{"$f":"$U$22","v":-35},null,"8°",4,{"$f":"$U$3","v":"BTH"},{"$f":"$U$22","v":-35}]
["4  .  8",50,null,50,null,null,null,null,null,{"$f":"Feuil2!I10","v":0},0,null,0,0,null,null,null,{"$f":"$K11","v":0},{"$f":"$M11","v":0},{"$f":"$J11","v":0},0,{"$f":"$J11","v":0},{"$f":"$M11","v":0},{"$f":"$K11","v":0},{"$f":"$N11","v":0},{"$f":"$N11","v":0},9,{"$f":"$Z$3","v":"MC"},{"$f":"$Z$22","v":-14},null,1,{"$f":"$R$3","v":"GD"},{"$f":"$R$22","v":-38},null,"9°",1,{"$f":"$R$3","v":"GD"},{"$f":"$R$22","v":-38}]
["5  .  1",null,690,null,420,null,null,null,null,{"$f":"Feuil2!I11","v":-7},7,null,7,-7,null,null,null,{"$f":"$N12","v":-7},{"$f":"$K12","v":7},{"$f":"$K12","v":7},{"$f":"$J12","v":-7},0,{"$f":"$J12","v":-7},{"$f":"$M12","v":7},{"$f":"$K12","v":7},{"$f":"$N12","v":-7}]
["5  .  2",null,420,50,null,null,null,null,null,{"$f":"Feuil2!I12","v":-10},10,null,10,-10,null,null,null,{"$f":"$N13","v":-10},{"$f":"$K13","v":10},{"$f":"$K13","v":10},{"$f":"$J13","v":-10},0,{"$f":"$J13","v":-10},{"$f":"$M13","v":10},{"$f":"$K13","v":10},{"$f":"$N13","v":-10}]
["6  .  3",170,null,null,50,null,null,null,null,{"$f":"Feuil2!I13","v":6},-6,null,-6,6,null,null,null,{"$f":"$N14","v":6},{"$f":"$N14","v":6},{"$f":"$K14","v":-6},{"$f":"$M14","v":-6},{"$f":"$J14","v":6},0,{"$f":"$J14","v":6},{"$f":"$M14","v":-6},{"$f":"$K14","v":-6}]
["6  .  4",650,null,650,null,null,null,null,null,{"$f":"Feuil2!I14","v":0},0,null,0,0,null,null,null,{"$f":"$N15","v":0},{"$f":"$N15","v":0},{"$f":"$K15","v":0},{"$f":"$M15","v":0},{"$f":"$J15","v":0},0,{"$f":"$J15","v":0},{"$f":"$M15","v":0},{"$f":"$K15","v":0}]
["7  .  5",null,100,null,100,null,null,null,null,{"$f":"Feuil2!I15","v":0},0,null,0,0,null,null,null,{"$f":"$K16","v":0},{"$f":"$N16","v":0},{"$f":"$N16","v":0},{"$f":"$K16","v":0},{"$f":"$M16","v":0},{"$f":"$J16","v":0},0,{"$f":"$J16","v":0},{"$f":"$M16","v":0},null,null,null,null,"CTRL+ C"]
["7  .  6",90,null,null,100,null,null,null,null,{"$f":"Feuil2!I16","v":5},-5,null,-5,5,null,null,null,{"$f":"$K17","v":-5},{"$f":"$N17","v":5},{"$f":"$N17","v":5},{"$f":"$K17","v":-5},{"$f":"$M17","v":-5},{"$f":"$J17","v":5},0,{"$f":"$J17","v":5},{"$f":"$M17","v":-5},null,null,null,null,"Classement"]
["8  .  7",90,null,90,null,null,null,null,null,{"$f":"Feuil2!I17","v":0},0,null,0,0,null,null,null,{"$f":"$M18","v":0},{"$f":"$K18","v":0},{"$f":"$N18","v":0},{"$f":"$N18","v":0},{"$f":"$K18","v":0},{"$f":"$M18","v":0},{"$f":"$J18","v":0},0,{"$f":"$J18","v":0}]
["8  .  8",null,90,null,120,null,null,null,null,{"$f":"Feuil2!I18","v":1},-1,null,-1,1,null,null,null,{"$f":"$M19","v":-1},{"$f":"$K19","v":-1},{"$f":"$N19","v":1},{"$f":"$N19","v":1},{"$f":"$K19","v":-1},{"$f":"$M19","v":-1},{"$f":"$J19","v":1},0,{"$f":"$J19","v":1}]
["9  .  1",null,450,null,420,null,null,null,null,{"$f":"Feuil2!I19","v":-1},1,null,1,-1,null,null,null,{"$f":"$J20","v":-1},{"$f":"$M20","v":1},{"$f":"$K20","v":1},{"$f":"$N20","v":-1},{"$f":"$N20","v":-1},{"$f":"$K20","v":1},{"$f":"$M20","v":1},{"$f":"$J20","v":-1},0]
["9  .  2",null,400,null,110,null,null,null,null,{"$f":"Feuil2!I20","v":-7},7,null,7,-7,null,null,null,{"$f":"$J21","v":-7},{"$f":"$M21","v":7},{"$f":"$K21","v":7},{"$f":"$N21","v":-7},{"$f":"$N21","v":-7},{"$f":"$K21","v":7},{"$f":"$M21","v":7},{"$f":"$J21","v":-7},0]
[null,"table 1",null,"table 2",null,null,null,null,null,"N/S.1","N/S.2",null,"E/O.1","E/O.2",null,null,"Total :",{"$f":"SUM(R4:R21)","v":-38},{"$f":"SUM(S4:S21)","v":22},38,-35,5,-18,19,21,-14,null,null,null,null,null,"   "]
[null,"N/S","E/O","N/S","E/O"]

{"sheet":"Feuil8","index":3,"n_rows":0,"n_cols":0,"rows_kept":0,"cut":false,"hidden":true,"merged":[]}

{"sheet":"Feuil4","index":4,"n_rows":0,"n_cols":0,"rows_kept":0,"cut":false,"hidden":true,"merged":[]}

{"sheet":"Feuil5","index":5,"n_rows":0,"n_cols":0,"rows_kept":0,"cut":false,"hidden":true,"merged":[]}

{"sheet":"Feuil6","index":6,"n_rows":0,"n_cols":0,"rows_kept":0,"cut":false,"hidden":true,"merged":[]}

{"sheet":"Feuil7","index":7,"n_rows":0,"n_cols":0,"rows_kept":0,"cut":false,"hidden":true,"merged":[]}

{"sheet":"Feuil2","index":8,"n_rows":371,"n_cols":9,"rows_kept":371,"cut":false,"hidden":false,"merged":[[0,3,0,4],[0,5,0,6]]}
["d","imp",null,"table 1",null,"table 2",null,null,"NS1"]
[0,0,"       équipes\nparties","N/S","E/O","N/S","E/O"]
[{"$f":"A2+10","v":10},0,"1  .  1",{"$f":"IF(ISBLANK(feuil1!B4),-(feuil1!C4),feuil1!B4)","v":-140},null,{"$f":"IF(ISBLANK(feuil1!D4),-(feuil1!E4),feuil1!D4)","v":130},null,{"$f":"(D3)-(F3)","v":-270},{"$f":"(SIGN(H3)*VLOOKUP(ABS(H3),$A$2:$B$371,2))","v":-7}]
[{"$f":"A3+10","v":20},1,"1  .  2",{"$f":"IF(ISBLANK(feuil1!B5),-(feuil1!C5),feuil1!B5)","v":-140},null,{"$f":"IF(ISBLANK(feuil1!D5),-(feuil1!E5),feuil1!D5)","v":-420},null,{"$f":"(D4)-(F4)","v":280},{"$f":"(SIGN(H4)*VLOOKUP(ABS(H4),$A$2:$B$371,2))","v":7}]
[30,1,"2  .  3",{"$f":"IF(ISBLANK(feuil1!B6),-(feuil1!C6),feuil1!B6)","v":-110},null,{"$f":"IF(ISBLANK(feuil1!D6),-(feuil1!E6),feuil1!D6)","v":-120},null,10,0]
[40,1,"2  .  4",{"$f":"IF(ISBLANK(feuil1!B7),-(feuil1!C7),feuil1!B7)","v":170},null,{"$f":"IF(ISBLANK(feuil1!D7),-(feuil1!E7),feuil1!D7)","v":170},null,0,0]
[50,2,"3  .  5",{"$f":"IF(ISBLANK(feuil1!B8),-(feuil1!C8),feuil1!B8)","v":650},null,{"$f":"IF(ISBLANK(feuil1!D8),-(feuil1!E8),feuil1!D8)","v":650},null,0,0]
[60,2,"3  .  6",{"$f":"IF(ISBLANK(feuil1!B9),-(feuil1!C9),feuil1!B9)","v":-100},null,{"$f":"IF(ISBLANK(feuil1!D9),-(feuil1!E9),feuil1!D9)","v":-100},null,0,0]
[70,2,"4  ,  7",{"$f":"IF(ISBLANK(feuil1!B10),-(feuil1!C10),feuil1!B10)","v":680},null,{"$f":"IF(ISBLANK(feuil1!D10),-(feuil1!E10),feuil1!D10)","v":-200},null,880,13]
[80,2,"4  . 8",{"$f":"IF(ISBLANK(feuil1!B11),-(feuil1!C11),feuil1!B11)","v":50},null,{"$f":"IF(ISBLANK(feuil1!D11),-(feuil1!E11),feuil1!D11)","v":50},null,0,0]
[90,3,"5  . 1",{"$f":"IF(ISBLANK(feuil1!B12),-(feuil1!C12),feuil1!B12)","v":-690},null,{"$f":"IF(ISBLANK(feuil1!D12),-(feuil1!E12),feuil1!D12)","v":-420},null,-270,-7]
[100,3,"5  . 2",{"$f":"IF(ISBLANK(feuil1!B13),-(feuil1!C13),feuil1!B13)","v":-420},null,{"$f":"IF(ISBLANK(feuil1!D13),-(feuil1!E13),feuil1!D13)","v":50},null,-470,-10]
[110,3,"6  . 3",{"$f":"IF(ISBLANK(feuil1!B14),-(feuil1!C14),feuil1!B14)","v":170},null,{"$f":"IF(ISBLANK(feuil1!D14),-(feuil1!E14),feuil1!D14)","v":-50},null,220,6]
[120,3,"6  .  4",{"$f":"IF(ISBLANK(feuil1!B15),-(feuil1!C15),feuil1!B15)","v":650},null,{"$f":"IF(ISBLANK(feuil1!D15),-(feuil1!E15),feuil1!D15)","v":650},null,0,0]
[130,4,"7  . 5",{"$f":"IF(ISBLANK(feuil1!B16),-(feuil1!C16),feuil1!B16)","v":-100},null,{"$f":"IF(ISBLANK(feuil1!D16),-(feuil1!E16),feuil1!D16)","v":-100},null,0,0]
[140,4,"7 . 6",{"$f":"IF(ISBLANK(feuil1!B17),-(feuil1!C17),feuil1!B17)","v":90},null,{"$f":"IF(ISBLANK(feuil1!D17),-(feuil1!E17),feuil1!D17)","v":-100},null,190,5]
[150,4,"8  .  7",{"$f":"IF(ISBLANK(feuil1!B18),-(feuil1!C18),feuil1!B18)","v":90},null,{"$f":"IF(ISBLANK(feuil1!D18),-(feuil1!E18),feuil1!D18)","v":90},null,{"$f":"(D17)-(F17)","v":0},{"$f":"(SIGN(H17)*VLOOKUP(ABS(H17),$A$2:$B$371,2))","v":0}]
[160,4,"8  .  8",{"$f":"IF(ISBLANK(feuil1!B19),-(feuil1!C19),feuil1!B19)","v":-90},null,{"$f":"IF(ISBLANK(feuil1!D19),-(feuil1!E19),feuil1!D19)","v":-120},null,30,1]
[170,5,"9  .  1",{"$f":"IF(ISBLANK(feuil1!B20),-(feuil1!C20),feuil1!B20)","v":-450},null,{"$f":"IF(ISBLANK(feuil1!D20),-(feuil1!E20),feuil1!D20)","v":-420},null,-30,-1]
[180,5,"9  .  2",{"$f":"IF(ISBLANK(feuil1!B21),-(feuil1!C21),feuil1!B21)","v":-400},null,{"$f":"IF(ISBLANK(feuil1!D21),-(feuil1!E21),feuil1!D21)","v":-110},null,-290,-7]
[190,5]
[200,5]
[210,5]
[220,6]
[230,6]
[240,6]
[250,6]
[260,6]
[270,7]
[280,7]
[290,7]
[300,7]
[310,7]
[320,8]
[330,8]
[340,8]
[350,8]
[360,8]
[370,9]
[380,9]
[390,9]
[400,9]
[410,9]
[420,9]
[430,10]
[440,10]
[450,10]
[460,10]
[470,10]
[480,10]
[490,10]
[500,11]
[510,11]
[520,11]
[530,11]
[540,11]
[550,11]
[560,11]
[570,11]
[580,11]
[590,11]
[600,12]
[610,12]
[620,12]
[630,12]
[640,12]
[650,12]
[{"$f":"A67+10","v":660},12]
[670,12]
[680,12]
[690,12]
[700,12]
[710,12]
[720,12]
[730,12]
[740,12]
[750,13]
[760,13]
[770,13]
[780,13]
[790,13]
[800,13]
[810,13]
[820,13]
[830,13]
[840,13]
[850,13]
[860,13]
[870,13]
[880,13]
[890,13]
[900,14]
[910,14]
[920,14]
[930,14]
[940,14]
[950,14]
[960,14]
[970,14]
[980,14]
[990,14]
[1000,14]
[1010,14]
[1020,14]
[1030,14]
[1040,14]
[1050,14]
[1060,14]
[1070,14]
[1080,14]
[1090,14]
[1100,15]
[1110,15]
[1120,15]
[1130,15]
[1140,15]
[1150,15]
[1160,15]
[1170,15]
[1180,15]
[1190,15]
[1200,15]
[1210,15]
[1220,15]
[1230,15]
[1240,15]
[1250,15]
[1260,15]
[1270,15]
[1280,15]
[1290,15]
[{"$f":"A131+10","v":1300},16]
[1310,16]
[1320,16]
[1330,16]
[1340,16]
[1350,16]
[1360,16]
[1370,16]
[1380,16]
[1390,16]
[1400,16]
[1410,16]
[1420,16]
[1430,16]
[1440,16]
[1450,16]
[1460,16]
[1470,16]
[1480,16]
[1490,16]
[1500,17]
[1510,17]
[1520,17]
[1530,17]
[1540,17]
[1550,17]
[1560,17]
[1570,17]
[1580,17]
[1590,17]
[1600,17]
[1610,17]
[1620,17]
[1630,17]
[1640,17]
[1650,17]
[1660,17]
[1670,17]
[1680,17]
[1690,17]
[1700,17]
[1710,17]
[1720,17]
[1730,17]
[1740,17]
[1750,18]
[1760,18]
[1770,18]
[1780,18]
[1790,18]
[1800,18]
[1810,18]
[1820,18]
[1830,18]
[1840,18]
[1850,18]
[1860,18]
[1870,18]
[1880,18]
[1890,18]
[1900,18]
[1910,18]
[1920,18]
[1930,18]
[{"$f":"A195+10","v":1940},18]
[1950,18]
[1960,18]
[1970,18]
[1980,18]
[1990,18]
[2000,19]
[2010,19]
[2020,19]
[2030,19]
[2040,19]
[2050,19]
[2060,19]
[2070,19]
[2080,19]
[2090,19]
[2100,19]
[2110,19]
[2120,19]
[2130,19]
[2140,19]
[2150,19]
[2160,19]
[2170,19]
[2180,19]
[2190,19]
[2200,19]
[2210,19]
[2220,19]
[2230,19]
[2240,19]
[2250,20]
[2260,20]
[2270,20]
[2280,20]
[2290,20]
[2300,20]
[2310,20]
[2320,20]
[2330,20]
[2340,20]
[2350,20]
[2360,20]
[2370,20]
[2380,20]
[2390,20]
[2400,20]
[2410,20]
[2420,20]
[2430,20]
[2440,20]
[2450,20]
[2460,20]
[2470,20]
[2480,20]
[2490,20]
[2500,21]
[2510,21]
[2520,21]
[2530,21]
[2540,21]
[2550,21]
[2560,21]
[2570,21]
[{"$f":"A259+10","v":2580},21]
[2590,21]
[2600,21]
[2610,21]
[2620,21]
[2630,21]
[2640,21]
[2650,21]
[2660,21]
[2670,21]
[2680,21]
[2690,21]
[2700,21]
[2710,21]
[2720,21]
[2730,21]
[2740,21]
[2750,22]
[2760,22]
[2770,22]
[2780,22]
[2790,22]
[2800,22]
[2810,22]
[2820,22]
[2830,22]
[2840,22]
[2850,22]
[2860,22]
[2870,22]
[2880,22]
[2890,22]
[2900,22]
[2910,22]
[2920,22]
[2930,22]
[2940,22]
[2950,22]
[2960,22]
[2970,22]
[2980,22]
[2990,22]
[3000,23]
[3010,23]
[3020,23]
[3030,23]
[3040,23]
[3050,23]
[3060,23]
[3070,23]
[3080,23]
[3090,23]
[3100,23]
[3110,23]
[3120,23]
[3130,23]
[3140,23]
[3150,23]
[3160,23]
[3170,23]
[3180,23]
[3190,23]
[3200,23]
[3210,23]
[{"$f":"A323+10","v":3220},23]
[3230,23]
[3240,23]
[3250,24]
[3260,24]
[3270,24]
[3280,24]
[3290,24]
[3300,24]
[3310,24]
[3320,24]
[3330,24]
[3340,24]
[3350,24]
[3360,24]
[3370,24]
[3380,24]
[3390,24]
[3400,24]
[3410,24]
[3420,24]
[3430,24]
[3440,24]
[3450,24]
[3460,24]
[3470,24]
[3480,24]
[3490,24]
[3500,25]
[3510,25]
[3520,25]
[3530,25]
[3540,25]
[3550,25]
[3560,25]
[3570,25]
[3580,25]
[3590,25]
[3600,25]
[3610,25]
[3620,25]
[3630,25]
[3640,25]
[3650,25]
[3660,25]
[3670,25]
[3680,25]
[3690,25]

{"sheet":"2°tour","index":9,"n_rows":36,"n_cols":12,"rows_kept":36,"cut":false,"hidden":false,"merged":[[9,0,9,11],[6,2,6,5],[6,6,6,9],[8,2,8,3],[8,4,8,5],[8,6,8,7],[8,8,8,9],[0,0,0,11],[1,0,1,11],[2,6,2,8],[2,9,2,11],[3,0,4,0],[3,1,4,1],[10,6,10,8],[10,9,10,11],[16,8,16,9],[11,0,12,0],[11,1,12,1],[16,2,16,3],[16,4,16,5],[16,6,16,7],[14,2,14,5],[14,6,14,9],[13,0,13,11],[18,0,19,0],[18,1,19,1],[19,2,19,9],[17,6,17,8],[21,2,21,5],[21,6,21,9],[20,2,20,9],[23,2,23,3],[23,4,23,5],[23,6,23,7],[29,1,29,2],[23,8,23,9],[25,5,25,7],[34,1,34,2],[26,5,26,7],[31,1,31,2],[32,1,32,2],[26,1,26,2]]}
["DEUXIEME  TOUR"]
[]
["jeu","vuln","table","contrat","joué par","résultat","Nord-Sud",null,null,"Est-Ouest"]
["2_3","EO",1,"2P","O","(=)",{"$f":"feuil1!$R$3","v":"GD"},{"$f":"feuil1!$T$3","v":"BC"},{"$f":"feuil1!B6","v":0},{"$f":"feuil1!C6","v":110},{"$f":"feuil1!$Z$3","v":"MC"},{"$f":"feuil1!$U$3","v":"BTH"}]
[null,null,2,"1SA","E","(+1)",{"$f":"feuil1!$Y$3","v":"NTH"},{"$f":"feuil1!$V$3","v":"RS"},{"$f":"feuil1!D6","v":0},{"$f":"feuil1!E6","v":120},{"$f":"feuil1!$X$3","v":"FD"},{"$f":"feuil1!$W$3","v":"OC"}]
[]
[null,null,"NS",null,null,null,"EO"]
[null,null,{"$f":"feuil1!$R$3","v":"GD"},{"$f":"feuil1!$T$3","v":"BC"},{"$f":"feuil1!$Y$3","v":"NTH"},{"$f":"feuil1!$V$3","v":"RS"},{"$f":"feuil1!$Z$3","v":"MC"},{"$f":"+L4","v":"BTH"},{"$f":"feuil1!$X$3","v":"FD"},{"$f":"feuil1!$W$3","v":"OC"}]
[null,null,{"$f":"feuil1!$J$6","v":0},null,{"$f":"feuil1!$K$6","v":0},null,{"$f":"feuil1!$M$6","v":0},null,{"$f":"feuil1!$N$6","v":0}]
[]
["jeu","vuln","table","contrat","joué par","résultat","Nord-Sud",null,null,"Est-Ouest"]
["2_4","TOUS",1,"2C","N","(+2)",{"$f":"feuil1!$R$3","v":"GD"},{"$f":"feuil1!$T$3","v":"BC"},{"$f":"feuil1!B7","v":170},{"$f":"feuil1!C7","v":0},{"$f":"feuil1!$Z$3","v":"MC"},{"$f":"feuil1!$U$3","v":"BTH"}]
[null,null,2,"3P","N","(+1)",{"$f":"feuil1!$Y$3","v":"NTH"},{"$f":"feuil1!$V$3","v":"RS"},{"$f":"feuil1!D7","v":170},{"$f":"feuil1!E7","v":0},{"$f":"feuil1!$X$3","v":"FD"},{"$f":"feuil1!$W$3","v":"OC"}]
[]
[null,null,"NS",null,null,null,"EO"]
[null,null,{"$f":"feuil1!$R$3","v":"GD"},{"$f":"feuil1!$T$3","v":"BC"},{"$f":"feuil1!$Y$3","v":"NTH"},{"$f":"feuil1!$V$3","v":"RS"},{"$f":"feuil1!$Z$3","v":"MC"},{"$f":"feuil1!$U$3","v":"BTH"},{"$f":"feuil1!$X$3","v":"FD"},{"$f":"feuil1!$W$3","v":"OC"}]
[null,null,{"$f":"feuil1!$J$7","v":0},null,{"$f":"feuil1!$K$7","v":0},null,{"$f":"feuil1!$M$7","v":0},null,{"$f":"feuil1!$N$7","v":0}]
[]
[]
[null,null,"Au 2° tour"]
[]
[null,null,"NS",null,null,null,"EO"]
[null,null,{"$f":"feuil1!$R$3","v":"GD"},{"$f":"feuil1!$T$3","v":"BC"},{"$f":"E16","v":"NTH"},"RS","MC","BTH","FD","OC"]
[null,null,{"$f":"(C9)+(C17)","v":0},null,{"$f":"(E9)+(E17)","v":0},null,{"$f":"(G9)+(G17)","v":0},null,{"$f":"(I9)+(I17)","v":0}]
[]
[null,null,null,null,null,"Après le deuxième tour :"]
[null,"N'a pas joué :",null,{"$f":"feuil1!$S$3","v":"JPS"}]
[null,null,null,null,null,null,"GD",0]
[null,null,null,null,null,null,"JPS",0]
[null,"Page d'accueil",null,null,null,null,"BC",0]
[null,null,null,null,null,null,"BTH",0]
[null,"premier tour",null,null,null,null,"RS",0]
[null,"troisième tour",null,null,null,null,"OC",0]
[null,null,null,null,null,null,"FD",0]
[null,"Cagnotte",null,null,null,null,"NTH",0]
[null,null,null,null,null,null,"MC",0]

{"sheet":"3°tour","index":10,"n_rows":37,"n_cols":12,"rows_kept":37,"cut":false,"hidden":false,"merged":[[10,0,10,11],[7,2,7,5],[7,6,7,9],[9,2,9,3],[9,4,9,5],[9,6,9,7],[9,8,9,9],[1,0,1,11],[2,0,2,11],[3,6,3,8],[3,9,3,11],[4,0,5,0],[4,1,5,1],[12,0,13,0],[12,1,13,1],[17,2,17,3],[17,4,17,5],[17,6,17,7],[15,2,15,5],[15,6,15,9],[14,0,14,11],[18,6,18,8],[22,2,22,5],[22,6,22,9],[21,2,21,9],[11,6,11,8],[11,9,11,11],[17,8,17,9],[24,8,24,9],[26,5,26,7],[19,0,20,0],[19,1,20,1],[20,2,20,9],[34,1,34,2],[27,5,27,7],[32,1,32,2],[28,1,28,2],[24,2,24,3],[24,4,24,5],[24,6,24,7],[30,1,30,2],[31,1,31,2]]}
[]
["TROISIEME  TOUR"]
[]
["jeu","vuln","table","contrat","joué par","résultat","Nord-Sud",null,null,"Est-Ouest"]
["3_5","NS",1,"4P","S","(+1)",{"$f":"feuil1!$S$3","v":"JPS"},{"$f":"feuil1!$U$3","v":"BTH"},{"$f":"feuil1!B8","v":650},{"$f":"feuil1!C8","v":0},{"$f":"feuil1!$R$3","v":"GD"},{"$f":"feuil1!$V$3","v":"RS"}]
[null,null,2,"4P","S","(+1)",{"$f":"feuil1!$Z$3","v":"MC"},{"$f":"feuil1!$W$3","v":"OC"},{"$f":"feuil1!D8","v":650},{"$f":"feuil1!E8","v":0},{"$f":"feuil1!$Y$3","v":"NTH"},{"$f":"feuil1!$X$3","v":"FD"}]
[]
[null,null,"NS",null,null,null,"EO"]
[null,null,{"$f":"G5","v":"JPS"},{"$f":"H5","v":"BTH"},{"$f":"G6","v":"MC"},{"$f":"H6","v":"OC"},{"$f":"K5","v":"GD"},{"$f":"L5","v":"RS"},{"$f":"K6","v":"NTH"},{"$f":"L6","v":"FD"}]
[null,null,{"$f":"feuil1!$J$8","v":0},null,{"$f":"feuil1!$K$8","v":0},null,{"$f":"feuil1!M8","v":0},null,{"$f":"feuil1!$N$8","v":0}]
[]
["jeu","vuln","table","contrat","joué par","résultat","Nord-Sud",null,null,"Est-Ouest"]
["3_6","EO",1,"2K","S","(-2)",{"$f":"C9","v":"JPS"},"BTH",{"$f":"feuil1!B9","v":0},{"$f":"feuil1!C9","v":100},{"$f":"K5","v":"GD"},"RS"]
[null,null,2,"3K","S","(-2)",{"$f":"G6","v":"MC"},"OC",{"$f":"feuil1!D9","v":0},{"$f":"feuil1!E9","v":100},{"$f":"K6","v":"NTH"},"FD"]
[]
[null,null,"NS",null,null,null,"EO"]
[null,null,{"$f":"$C$9","v":"JPS"},{"$f":"D9","v":"BTH"},"MC","OC","GD","RS","NTH","FD"]
[null,null,{"$f":"feuil1!$J$9","v":0},null,{"$f":"feuil1!$K$9","v":0},null,{"$f":"feuil1!$M$9","v":0},null,{"$f":"feuil1!$N$9","v":0}]
[]
[]
[null,null,"Au 3° tour"]
[]
[null,null,"NS",null,null,null,"EO"]
[null,null,{"$f":"C9","v":"JPS"},"BTH",{"$f":"E17","v":"MC"},"OC","GD","RS","NTH","FD"]
[null,null,{"$f":"(C10)+(C18)","v":0},null,{"$f":"(E10)+(E18)","v":0},null,{"$f":"(G10)+(G18)","v":0},null,{"$f":"(I10)+(I18)","v":0}]
[]
[null,null,null,null,null,"Après le troisième tour :"]
[]
[null,"N'a pas joué :",null,{"$f":"feuil1!$T$3","v":"BC"},null,null,"GD",0]
[null,null,null,null,null,null,"JPS",0]
[null,"Page d'accueil",null,null,null,null,"BC",0]
[null,"Deuxième tour",null,null,null,null,"BTH",0]
[null,"Quatrième tour",null,null,null,null,"RS",0]
[null,null,null,null,null,null,"OC",0]
[null,"Cagnotte",null,null,null,null,"FD",0]
[null,null,null,null,null,null,"NTH",0]
[null,null,null,null,null,null,"MC",0]

{"sheet":"4°tour","index":11,"n_rows":36,"n_cols":12,"rows_kept":36,"cut":false,"hidden":false,"merged":[[9,0,9,11],[6,2,6,5],[6,6,6,9],[8,2,8,3],[8,4,8,5],[8,6,8,7],[8,8,8,9],[0,0,0,11],[1,0,1,11],[2,6,2,8],[2,9,2,11],[3,0,4,0],[3,1,4,1],[10,6,10,8],[10,9,10,11],[16,8,16,9],[11,0,12,0],[11,1,12,1],[16,2,16,3],[16,4,16,5],[16,6,16,7],[14,2,14,5],[14,6,14,9],[13,0,13,11],[18,0,19,0],[18,1,19,1],[19,2,19,9],[17,6,17,8],[21,2,21,5],[21,6,21,9],[20,2,20,9],[23,2,23,3],[23,4,23,5],[23,6,23,7],[29,1,29,2],[23,8,23,9],[25,5,25,7],[34,1,34,2],[26,5,26,7],[31,1,31,2],[32,1,32,2],[27,1,27,2],[27,5,30,5],[32,5,35,5]]}
["QUATRIEME  TOUR"]
[]
["jeu","vuln","table","contrat","joué par","résultat","Nord-Sud",null,null,"Est-Ouest"]
["4_7","tous",1,"5C","S","(+1)",{"$f":"feuil1!$T$3","v":"BC"},{"$f":"feuil1!$V$3","v":"RS"},{"$f":"feuil1!B10","v":680},{"$f":"feuil1!C10","v":0},{"$f":"feuil1!$S$3","v":"JPS"},{"$f":"feuil1!$W$3","v":"OC"}]
[null,null,2,"6P","N","(-2)",{"$f":"feuil1!$R$3","v":"GD"},{"$f":"feuil1!$X$3","v":"FD"},{"$f":"feuil1!D10","v":0},{"$f":"feuil1!E10","v":200},{"$f":"feuil1!$Z$3","v":"MC"},{"$f":"feuil1!$Y$3","v":"NTH"}]
[]
[null,null,"NS",null,null,null,"EO"]
[null,null,{"$f":"G4","v":"BC"},{"$f":"H4","v":"RS"},{"$f":"G5","v":"GD"},{"$f":"H5","v":"FD"},{"$f":"K4","v":"JPS"},{"$f":"L4","v":"OC"},{"$f":"K5","v":"MC"},{"$f":"L5","v":"NTH"}]
[null,null,{"$f":"feuil1!$J$10","v":13},null,{"$f":"feuil1!$K$10","v":-13},null,{"$f":"feuil1!$M$10","v":-13},null,{"$f":"feuil1!$N$10","v":13}]
[]
["jeu","vuln","table","contrat","joué par","résultat","Nord-Sud",null,null,"Est-Ouest"]
["4_8","pers",1,"2P","O","(-1)",{"$f":"C8","v":"BC"},"RS",{"$f":"feuil1!B11","v":50},{"$f":"feuil1!C11","v":0},{"$f":"K4","v":"JPS"},"OC"]
[null,null,2,"1P","O","(-1)",{"$f":"G5","v":"GD"},"FD",{"$f":"feuil1!D11","v":50},{"$f":"feuil1!E11","v":0},{"$f":"feuil1!$Z$3","v":"MC"},{"$f":"feuil1!$Y$3","v":"NTH"}]
[]
[null,null,"NS",null,null,null,"EO"]
[null,null,{"$f":"G4","v":"BC"},{"$f":"D8","v":"RS"},"GD","FD","JPS","OC",{"$f":"K5","v":"MC"},{"$f":"L5","v":"NTH"}]
[null,null,{"$f":"feuil1!$J$11","v":0},null,{"$f":"feuil1!$K$11","v":0},null,{"$f":"feuil1!$M$11","v":0},null,{"$f":"feuil1!$N$11","v":0}]
[]
[]
[null,null,"Au 4° tour"]
[]
[null,null,"NS",null,null,null,"EO"]
[null,null,{"$f":"G4","v":"BC"},{"$f":"D8","v":"RS"},{"$f":"E16","v":"GD"},"FD","JPS","OC","MC","NTH"]
[null,null,{"$f":"(C9)+(C17)","v":13},null,{"$f":"(E9)+(E17)","v":-13},null,{"$f":"(G9)+(G17)","v":-13},null,{"$f":"(I9)+(I17)","v":13}]
[]
[null,null,null,null,null,"Après le quatrième tour :"]
[]
[null,"N'a pas joué :",null,{"$f":"feuil1!$U$3","v":"BTH"},null,"1er","BC",13]
[null,null,null,null,null,null,"RS",13]
[null,"Page d'accueil",null,null,null,null,"NTH",13]
[null,null,null,null,null,null,"MC",13]
[null,"Troisième tour",null,null,null,"5°","BTH",0]
[null,"Cinquième tour",null,null,null,"6°","GD",-13]
[null,null,null,null,null,null,"JPS",-13]
[null,"Cagnotte",null,null,null,null,"OC",-13]
[null,null,null,null,null,null,"FD",-13]

{"sheet":"5°tour","index":12,"n_rows":36,"n_cols":12,"rows_kept":36,"cut":false,"hidden":false,"merged":[[9,0,9,11],[6,2,6,5],[6,6,6,9],[8,2,8,3],[8,4,8,5],[8,6,8,7],[8,8,8,9],[0,0,0,11],[1,0,1,11],[2,6,2,8],[2,9,2,11],[3,0,4,0],[3,1,4,1],[10,6,10,8],[10,9,10,11],[16,8,16,9],[11,0,12,0],[11,1,12,1],[16,2,16,3],[16,4,16,5],[16,6,16,7],[14,2,14,5],[14,6,14,9],[13,0,13,11],[18,0,19,0],[18,1,19,1],[19,2,19,9],[21,2,21,5],[21,6,21,9],[20,2,20,9],[23,8,23,9],[25,5,25,7],[23,2,23,3],[23,4,23,5],[23,6,23,7],[34,1,34,2],[31,1,31,2],[32,1,32,2],[27,1,27,2],[26,5,26,7],[29,1,29,2],[27,5,28,5],[30,5,31,5],[34,5,35,5]]}
["CINQUIEME  TOUR"]
[]
["jeu","vuln","table","contrat","joué par","résultat","Nord-Sud",null,null,"Est-Ouest"]
["5_1","pers",1,"4C(x)","O","(+1)",{"$f":"feuil1!$U$3","v":"BTH"},{"$f":"feuil1!$W$3","v":"OC"},{"$f":"feuil1!B12","v":0},{"$f":"feuil1!C12","v":690},{"$f":"feuil1!$T$3","v":"BC"},{"$f":"feuil1!$X$3","v":"FD"}]
[null,null,2,"4C","O","(=)",{"$f":"feuil1!$S$3","v":"JPS"},{"$f":"feuil1!$Y$3","v":"NTH"},{"$f":"feuil1!D12","v":0},{"$f":"feuil1!E12","v":420},{"$f":"feuil1!$R$3","v":"GD"},{"$f":"feuil1!$Z$3","v":"MC"}]
[]
[null,null,"NS",null,null,null,"EO"]
[null,null,{"$f":"G4","v":"BTH"},{"$f":"H4","v":"OC"},{"$f":"G5","v":"JPS"},{"$f":"H5","v":"NTH"},{"$f":"K4","v":"BC"},{"$f":"L4","v":"FD"},{"$f":"K5","v":"GD"},{"$f":"L5","v":"MC"}]
[null,null,{"$f":"feuil1!$J$12","v":-7},null,{"$f":"feuil1!$K$12","v":7},null,{"$f":"feuil1!$M$12","v":7},null,{"$f":"feuil1!$N$12","v":-7}]
[]
["jeu","vuln","table","contrat","joué par","résultat","Nord-Sud",null,null,"Est-Ouest"]
["5_2","NS",1,"4C","O","(=)",{"$f":"C8","v":"BTH"},"OC",{"$f":"feuil1!B13","v":0},{"$f":"feuil1!C13","v":420},{"$f":"K4","v":"BC"},"FD"]
[null,null,2,"4C","O","(-1)",{"$f":"G5","v":"JPS"},"NTH",{"$f":"feuil1!D13","v":50},{"$f":"feuil1!E13","v":0},{"$f":"K5","v":"GD"},{"$f":"L5","v":"MC"}]
[]
[null,null,"NS",null,null,null,"EO"]
[null,null,{"$f":"G4","v":"BTH"},{"$f":"D8","v":"OC"},"JPS","NTH","BC","FD",{"$f":"K5","v":"GD"},{"$f":"L5","v":"MC"}]
[null,null,{"$f":"feuil1!$J$13","v":-10},null,{"$f":"feuil1!$K$13","v":10},null,{"$f":"feuil1!$M$13","v":10},null,{"$f":"feuil1!$N$13","v":-10}]
[]
[]
[null,null,"Au 5° tour"]
[]
[null,null,"NS",null,null,null,"EO"]
[null,null,{"$f":"G4","v":"BTH"},{"$f":"D8","v":"OC"},{"$f":"E16","v":"JPS"},"NTH","BC","FD","GD","MC"]
[null,null,{"$f":"(C9)+(C17)","v":-17},null,{"$f":"(E9)+(E17)","v":17},null,{"$f":"(G9)+(G17)","v":17},null,{"$f":"(I9)+(I17)","v":-17}]
[]
[null,null,null,null,null,"Après le cinquième tour :"]
[]
[null,"N'a pas joué :",null,{"$f":"feuil1!$V$3","v":"RS"},null,"1er","BC",30]
[null,null,null,null,null,null,"NTH",30]
[null,"Page d'accueil",null,null,null,"3°","RS",13]
[null,null,null,null,null,"4°","JPS",4]
[null,"Quatrième tour",null,null,null,null,"FD",4]
[null,"Sixième tour",null,null,null,"6°","MC",-4]
[null,null,null,null,null,"7°","BTH",-17]
[null,"Cagnotte",null,null,null,"8°","GD",-30]
[null,null,null,null,null,null,"OC",-30]

{"sheet":"6°tour","index":13,"n_rows":36,"n_cols":12,"rows_kept":36,"cut":false,"hidden":false,"merged":[[9,0,9,11],[6,2,6,5],[6,6,6,9],[8,2,8,3],[8,4,8,5],[8,6,8,7],[8,8,8,9],[0,0,0,11],[1,0,1,11],[2,6,2,8],[2,9,2,11],[3,0,4,0],[3,1,4,1],[10,6,10,8],[10,9,10,11],[11,0,12,0],[11,1,12,1],[16,2,16,3],[16,4,16,5],[16,6,16,7],[16,8,16,9],[14,2,14,5],[14,6,14,9],[13,0,13,11],[18,0,19,0],[18,1,19,1],[19,2,19,9],[17,6,17,8],[17,9,17,11],[21,2,21,5],[21,6,21,9],[20,2,20,9],[23,2,23,3],[23,4,23,5],[23,6,23,7],[23,8,23,9],[34,1,34,2],[25,5,25,7],[26,5,26,7],[31,1,31,2],[32,1,32,2],[27,1,27,2],[29,1,29,2],[27,5,28,5],[30,5,31,5]]}
["SIXIEME  TOUR"]
[]
["jeu","vuln","table","contrat","joué par","résultat","Nord-Sud",null,null,"Est-Ouest"]
["6_3","EO",1,"2P","N","(+2)",{"$f":"feuil1!$V$3","v":"RS"},{"$f":"feuil1!$X$3","v":"FD"},{"$f":"feuil1!B14","v":170},{"$f":"feuil1!C14","v":0},{"$f":"feuil1!$U$3","v":"BTH"},{"$f":"feuil1!$Y$3","v":"NTH"}]
[null,null,2,"4P","S","(-1)",{"$f":"feuil1!$T$3","v":"BC"},{"$f":"feuil1!$Z$3","v":"MC"},{"$f":"feuil1!D14","v":0},{"$f":"feuil1!E14","v":50},{"$f":"feuil1!$S$3","v":"JPS"},{"$f":"feuil1!$R$3","v":"GD"}]
[]
[null,null,"NS",null,null,null,"EO"]
[null,null,{"$f":"G4","v":"RS"},{"$f":"H4","v":"FD"},{"$f":"G5","v":"BC"},{"$f":"H5","v":"MC"},{"$f":"K4","v":"BTH"},{"$f":"L4","v":"NTH"},{"$f":"K5","v":"JPS"},{"$f":"L5","v":"GD"}]
[null,null,{"$f":"feuil1!$J$14","v":6},null,{"$f":"feuil1!$K$14","v":-6},null,{"$f":"feuil1!$M$14","v":-6},null,{"$f":"feuil1!$N$14","v":6}]
[]
["jeu","vuln","table","contrat","joué par","résultat","Nord-Sud",null,null,"Est-Ouest"]
["6_4","TOUS",1,"4P","S","(+1)",{"$f":"C8","v":"RS"},"FD",{"$f":"feuil1!B15","v":650},{"$f":"feuil1!C15","v":0},{"$f":"K4","v":"BTH"},"NTH"]
[null,null,2,"4C","S","(+1)",{"$f":"G5","v":"BC"},"MC",{"$f":"feuil1!D15","v":650},{"$f":"feuil1!E15","v":0},{"$f":"feuil1!$S$3","v":"JPS"},{"$f":"feuil1!$R$3","v":"GD"}]
[]
[null,null,"NS",null,null,null,"EO"]
[null,null,{"$f":"G4","v":"RS"},{"$f":"D8","v":"FD"},"BC","MC","BTH","NTH",{"$f":"K5","v":"JPS"},{"$f":"L5","v":"GD"}]
[null,null,{"$f":"feuil1!$J$15","v":0},null,{"$f":"feuil1!$K$15","v":0},null,{"$f":"feuil1!$M$15","v":0},null,{"$f":"feuil1!$N$15","v":0}]
[]
[]
[null,null,"Au 6° tour"]
[]
[null,null,"NS",null,null,null,"EO"]
[null,null,{"$f":"G4","v":"RS"},{"$f":"D8","v":"FD"},{"$f":"E16","v":"BC"},"MC","BTH","NTH","JPS","GD"]
[null,null,{"$f":"(C9)+(C17)","v":6},null,{"$f":"(E9)+(E17)","v":-6},null,{"$f":"(G9)+(G17)","v":-6},null,{"$f":"(I9)+(I17)","v":6}]
[]
[null,null,null,null,null,"Après le sixième tour :"]
[]
[null,"N'a pas joué :",null,{"$f":"feuil1!$W$3","v":"OC"},null,"1er","BC",24]
[null,null,null,null,null,null,"NTH",24]
[null,"Page d'accueil",null,null,null,"3°","RS",19]
[null,null,null,null,null,"4°","JPS",10]
[null,"Cinquième tour",null,null,null,null,"FD",10]
[null,"Septième tour",null,null,null,"6°","MC",-10]
[null,null,null,null,null,"7°","BTH",-23]
[null,"Cagnotte",null,null,null,"8°","GD",-24]
[null,null,null,null,null,"9°","OC",-30]

{"sheet":"7°tour","index":14,"n_rows":36,"n_cols":12,"rows_kept":36,"cut":false,"hidden":false,"merged":[[9,0,9,11],[6,2,6,5],[6,6,6,9],[8,2,8,3],[8,4,8,5],[8,6,8,7],[8,8,8,9],[0,0,0,11],[1,0,1,11],[2,6,2,8],[2,9,2,11],[3,0,4,0],[3,1,4,1],[10,6,10,8],[10,9,10,11],[11,0,12,0],[11,1,12,1],[16,2,16,3],[16,4,16,5],[16,6,16,7],[16,8,16,9],[14,2,14,5],[14,6,14,9],[13,0,13,11],[18,0,19,0],[18,1,19,1],[19,2,19,9],[17,6,17,8],[17,9,17,11],[21,2,21,5],[21,6,21,9],[20,2,20,9],[23,2,23,3],[23,4,23,5],[23,6,23,7],[23,8,23,9],[34,1,34,2],[25,5,25,7],[26,5,26,7],[31,1,31,2],[32,1,32,2],[28,1,28,2],[30,1,30,2],[27,5,28,5]]}
["SEPTIEME  TOUR"]
[]
["jeu","vuln","table","contrat","joué par","résultat","Nord-Sud",null,null,"Est-Ouest"]
["7_5","NS",1,"3SA","N","(-1)",{"$f":"feuil1!$W$3","v":"OC"},{"$f":"feuil1!$Y$3","v":"NTH"},{"$f":"feuil1!B16","v":0},{"$f":"feuil1!C16","v":100},{"$f":"feuil1!$V$3","v":"RS"},{"$f":"feuil1!$Z$3","v":"MC"}]
[null,null,2,"3SA","S","(-1)",{"$f":"feuil1!$U$3","v":"BTH"},{"$f":"feuil1!$R$3","v":"GD"},{"$f":"feuil1!D16","v":0},{"$f":"feuil1!E16","v":100},{"$f":"feuil1!$T$3","v":"BC"},{"$f":"feuil1!$S$3","v":"JPS"}]
[]
[null,null,"NS",null,null,null,"EO"]
[null,null,{"$f":"G4","v":"OC"},{"$f":"H4","v":"NTH"},{"$f":"G5","v":"BTH"},{"$f":"H5","v":"GD"},{"$f":"K4","v":"RS"},{"$f":"L4","v":"MC"},{"$f":"K5","v":"BC"},{"$f":"L5","v":"JPS"}]
[null,null,{"$f":"feuil1!$J$16","v":0},null,{"$f":"feuil1!$K$16","v":0},null,{"$f":"feuil1!$M$16","v":0},null,{"$f":"feuil1!$N$16","v":0}]
[]
["jeu","vuln","table","contrat","joué par","résultat","Nord-Sud",null,null,"Est-Ouest"]
["7_6","EO",1,"2K","S","(=)",{"$f":"C8","v":"OC"},"NTH",{"$f":"feuil1!B17","v":90},{"$f":"feuil1!C17","v":0},{"$f":"K4","v":"RS"},"MC"]
[null,null,2,"3T","N","(-2)",{"$f":"G5","v":"BTH"},"GD",{"$f":"feuil1!D17","v":0},{"$f":"feuil1!E17","v":100},{"$f":"K5","v":"BC"},{"$f":"L5","v":"JPS"}]
[]
[null,null,"NS",null,null,null,"EO"]
[null,null,{"$f":"G4","v":"OC"},{"$f":"D8","v":"NTH"},"BTH","GD","RS","MC",{"$f":"K5","v":"BC"},{"$f":"L5","v":"JPS"}]
[null,null,{"$f":"feuil1!$J$17","v":5},null,{"$f":"feuil1!$K$17","v":-5},null,{"$f":"feuil1!$M$17","v":-5},null,{"$f":"feuil1!$N$17","v":5}]
[]
[]
[null,null,"Au 7° tour"]
[]
[null,null,"NS",null,null,null,"EO"]
[null,null,{"$f":"G4","v":"OC"},{"$f":"D8","v":"NTH"},{"$f":"E16","v":"BTH"},"GD","RS","MC","BC","JPS"]
[null,null,{"$f":"(C9)+(C17)","v":5},null,{"$f":"(E9)+(E17)","v":-5},null,{"$f":"(G9)+(G17)","v":-5},null,{"$f":"(I9)+(I17)","v":5}]
[]
[null,null,null,null,null,"Après le septième tour :"]
[]
[null,null,null,null,null,"1er","BC",29]
[null,"N'a pas joué :",null,{"$f":"feuil1!$X$3","v":"FD"},null,null,"NTH",29]
[null,null,null,null,null,"3°","JPS",15]
[null,"Page d'accueil",null,null,null,"4°","RS",14]
[null,"Sixième tour",null,null,null,"5°","FD",10]
[null,"Huitième tour",null,null,null,"6°","MC",-15]
[null,null,null,null,null,"7°","OC",-25]
[null,"Cagnotte",null,null,null,"8°","BTH",-28]
[null,null,null,null,null,"9°","GD",-29]

{"sheet":"8°tour","index":15,"n_rows":36,"n_cols":12,"rows_kept":36,"cut":false,"hidden":false,"merged":[[9,0,9,11],[6,2,6,5],[6,6,6,9],[8,2,8,3],[8,4,8,5],[8,6,8,7],[8,8,8,9],[0,0,0,11],[1,0,1,11],[2,6,2,8],[2,9,2,11],[3,0,4,0],[3,1,4,1],[10,6,10,8],[10,9,10,11],[11,0,12,0],[11,1,12,1],[16,2,16,3],[16,4,16,5],[16,6,16,7],[16,8,16,9],[14,2,14,5],[14,6,14,9],[13,0,13,11],[18,0,19,0],[18,1,19,1],[19,2,19,9],[17,6,17,8],[17,9,17,11],[21,2,21,5],[21,6,21,9],[20,2,20,9],[23,2,23,3],[23,4,23,5],[23,6,23,7],[23,8,23,9],[34,1,34,2],[25,5,25,7],[26,5,26,7],[31,1,31,2],[32,1,32,2],[27,1,27,2],[29,1,29,2]]}
["HUITIEME  TOUR"]
[]
["jeu","vuln","table","contrat","joué par","résultat","Nord-Sud",null,null,"Est-Ouest"]
["8_7","Tous",1,"1SA","S","(=)",{"$f":"feuil1!$X$3","v":"FD"},{"$f":"feuil1!$Z$3","v":"MC"},{"$f":"feuil1!B18","v":90},{"$f":"feuil1!C18","v":0},{"$f":"feuil1!$W$3","v":"OC"},{"$f":"feuil1!$R$3","v":"GD"}]
[null,null,2,"1SA","S","(=)",{"$f":"feuil1!$V$3","v":"RS"},{"$f":"feuil1!$S$3","v":"JPS"},{"$f":"feuil1!D18","v":90},{"$f":"feuil1!E18","v":0},{"$f":"feuil1!$U$3","v":"BTH"},{"$f":"feuil1!$T$3","v":"BC"}]
[]
[null,null,"NS",null,null,null,"EO"]
[null,null,{"$f":"G4","v":"FD"},{"$f":"H4","v":"MC"},{"$f":"G5","v":"RS"},{"$f":"H5","v":"JPS"},{"$f":"K4","v":"OC"},{"$f":"L4","v":"GD"},{"$f":"K5","v":"BTH"},{"$f":"L5","v":"BC"}]
[null,null,{"$f":"feuil1!$J$18","v":0},null,{"$f":"feuil1!$K$18","v":0},null,{"$f":"feuil1!$M$18","v":0},null,{"$f":"feuil1!$N$18","v":0}]
[]
["jeu","vuln","table","contrat","joué par","résultat","Nord-Sud",null,null,"Est-Ouest"]
["8_8","Pers",1,"1T","E","(+1)",{"$f":"C8","v":"FD"},"MC",{"$f":"feuil1!B19","v":0},{"$f":"feuil1!C19","v":90},{"$f":"K4","v":"OC"},"GD"]
[null,null,2,"1SA","E","(+1)",{"$f":"G5","v":"RS"},"JPS",{"$f":"feuil1!D19","v":0},{"$f":"feuil1!E19","v":120},{"$f":"K5","v":"BTH"},{"$f":"L5","v":"BC"}]
[]
[null,null,"NS",null,null,null,"EO"]
[null,null,{"$f":"G4","v":"FD"},{"$f":"D8","v":"MC"},"RS","JPS","OC","GD",{"$f":"K5","v":"BTH"},{"$f":"L5","v":"BC"}]
[null,null,{"$f":"feuil1!$J$19","v":1},null,{"$f":"feuil1!$K$19","v":-1},null,{"$f":"feuil1!$M$19","v":-1},null,{"$f":"feuil1!$N$19","v":1}]
[]
[]
[null,null,"Au 8° tour"]
[]
[null,null,"NS",null,null,null,"EO"]
[null,null,{"$f":"G4","v":"FD"},{"$f":"D8","v":"MC"},{"$f":"E16","v":"RS"},"JPS","OC",{"$f":"I5","v":90},{"$f":"J5","v":0},{"$f":"L5","v":"BC"}]
[null,null,{"$f":"(C9)+(C17)","v":1},null,{"$f":"(E9)+(E17)","v":-1},null,{"$f":"(G9)+(G17)","v":-1},null,{"$f":"(I9)+(I17)","v":1}]
[]
[null,null,null,null,null,"Après le huitième tour :"]
[]
[null,"N'a pas joué :",null,{"$f":"feuil1!$Y$3","v":"NTH"},null,"1er","BC",30]
[null,null,null,null,null,"2°","NTH",29]
[null,"Page d'accueil",null,null,null,"3°","JPS",14]
[null,null,null,null,null,"4°","RS",13]
[null,"Septième tour",null,null,null,"5°","FD",11]
[null,"Neuvième tour",null,null,null,"6°","MC",-14]
[null,null,null,null,null,"7°","OC",-26]
[null,"Cagnotte",null,null,null,"8°","BTH",-27]
[null,null,null,null,null,"9°","GD",-30]

{"sheet":"9°tour","index":16,"n_rows":36,"n_cols":12,"rows_kept":36,"cut":false,"hidden":false,"merged":[[9,0,9,11],[6,2,6,5],[6,6,6,9],[8,2,8,3],[8,4,8,5],[8,6,8,7],[8,8,8,9],[0,0,0,11],[1,0,1,11],[2,6,2,8],[2,9,2,11],[3,0,4,0],[3,1,4,1],[10,6,10,8],[10,9,10,11],[11,0,12,0],[11,1,12,1],[16,2,16,3],[16,4,16,5],[16,6,16,7],[16,8,16,9],[14,2,14,5],[14,6,14,9],[13,0,13,11],[18,0,19,0],[18,1,19,1],[19,2,19,9],[17,6,17,8],[17,9,17,11],[21,2,21,5],[21,6,21,9],[20,2,20,9],[23,2,23,3],[23,4,23,5],[23,6,23,7],[23,8,23,9],[34,1,34,2],[25,8,26,8],[25,5,25,7],[26,5,26,7],[31,1,31,2],[32,1,32,2],[27,1,27,2],[29,1,29,2]]}
["NEUVIEME  TOUR"]
[]
["jeu","vuln","table","contrat","joué par","résultat","Nord-Sud",null,null,"Est-Ouest"]
["9_1","PERS",1,"4P","E","(+1)",{"$f":"feuil1!$Y$3","v":"NTH"},{"$f":"feuil1!$R$3","v":"GD"},{"$f":"feuil1!B20","v":0},{"$f":"feuil1!C20","v":450},{"$f":"feuil1!$X$3","v":"FD"},{"$f":"feuil1!$S$3","v":"JPS"}]
[null,null,2,"4P","E","(=)",{"$f":"feuil1!$W$3","v":"OC"},{"$f":"feuil1!$T$3","v":"BC"},{"$f":"feuil1!D20","v":0},{"$f":"feuil1!E20","v":420},{"$f":"feuil1!$V$3","v":"RS"},{"$f":"feuil1!$U$3","v":"BTH"}]
[]
[null,null,"NS",null,null,null,"EO"]
[null,null,{"$f":"G4","v":"NTH"},{"$f":"H4","v":"GD"},{"$f":"G5","v":"OC"},{"$f":"H5","v":"BC"},{"$f":"K4","v":"FD"},{"$f":"L4","v":"JPS"},{"$f":"K5","v":"RS"},{"$f":"L5","v":"BTH"}]
[null,null,{"$f":"feuil1!$J$20","v":-1},null,{"$f":"feuil1!$K$20","v":1},null,{"$f":"feuil1!$M$20","v":1},null,{"$f":"feuil1!$N$20","v":-1}]
[]
["jeu","vuln","table","contrat","joué par","résultat","Nord-Sud",null,null,"Est-Ouest"]
["9_2","NS",1,"3SA","O","(=)",{"$f":"C8","v":"NTH"},"GD",{"$f":"feuil1!B21","v":0},400,{"$f":"K4","v":"FD"},"JPS"]
[null,null,2,"2K","O","(+1)",{"$f":"G5","v":"OC"},"BC",{"$f":"feuil1!D21","v":0},110,{"$f":"K5","v":"RS"},{"$f":"L5","v":"BTH"}]
[]
[null,null,"NS",null,null,null,"EO"]
[null,null,{"$f":"G4","v":"NTH"},{"$f":"D8","v":"GD"},"OC","BC","FD","JPS",{"$f":"K5","v":"RS"},{"$f":"L5","v":"BTH"}]
[null,null,{"$f":"feuil1!$J$21","v":-7},null,{"$f":"feuil1!$K$21","v":7},null,{"$f":"feuil1!$M$21","v":7},null,{"$f":"feuil1!$N$21","v":-7}]
[]
[]
[null,null,"Au 9° tour"]
[]
[null,null,"NS",null,null,null,"EO"]
[null,null,{"$f":"G4","v":"NTH"},{"$f":"D8","v":"GD"},{"$f":"E16","v":"OC"},"BC","FD","JPS","RS","BTH"]
[null,null,{"$f":"(C9)+(C17)","v":-8},null,{"$f":"(E9)+(E17)","v":8},null,{"$f":"(G9)+(G17)","v":8},null,{"$f":"(I9)+(I17)","v":-8}]
[]
[null,null,null,null,null,"Après le neuvième tour :"]
[]
[null,"N'a pas joué :",null,{"$f":"feuil1!$Z$3","v":"MC"},null,"1er","BC",38]
[null,null,null,null,null,"2°","JPS",22]
[null,"Page d'accueil",null,null,null,"3°","NTH",21]
[null,null,null,null,null,"4°","FD",19]
[null,"Huitième tour",null,null,null,"5°","RS",5]
[null,"Premier tour",null,null,null,"6°","MC",-14]
[null,null,null,null,null,"7°","OC",-18]
[null,"Cagnotte",null,null,null,"8°","BTH",-35]
[null,null,null,null,null,"9°","GD",-38]

{"sheet":"bilan","index":17,"n_rows":27,"n_cols":11,"rows_kept":27,"cut":false,"hidden":false,"merged":[[4,3,4,5],[20,2,25,2],[10,2,15,2],[22,8,22,9],[23,8,23,9]]}
[]
[]
[]
[]
[null,null,null,"Bilan bridge"]
[]
[]
[]
[null,null,"Barrès","France","Réjane","Odile","Michèle","Noriko","France","Réjane","Odile"]
[null,null,"juin_23","2023-11-24","2023-12-12","2024-01-13","2024-02-09","2024-03-01","2024-03-23","2024-04-03","2024-05-18"]
[null,"Chautemps",-787,10,10,10,10,10,null,10,10]
[null,"Cheurlin",null,20,20,20,20,20,20,20,20]
[null,"Dupont",null,20,20,20,20,20,20,20,20]
[null,"Saas",null,20,20,20,20,20,20,20,20]
[null,"Thouvenin",null,20,20,20,20,20,20,20,10]
[null,"sous-total",null,90,90,90,90,90,80,90,80]
[null,null,438,528,618,708,798,888,968,1058,1138]
[]
[null,null,"Barrès","Michèle"]
[null,null,"Juin_24","25_11_24"]
[null,"Chautemps",-753,10]
[null,"Cheurlin",null,20]
[null,"Dupont",null,20,null,null,null,null,"Page d'accueil"]
[null,"Saas",null,20,null,null,null,null,"Septième tour"]
[null,"Thouvenin",null,20]
[null,"sous-total",null,90]
[null,null,385,475]

{"sheet":"Feuil3","index":18,"n_rows":0,"n_cols":0,"rows_kept":0,"cut":false,"hidden":false,"merged":[]}